BEGIN:VCALENDAR
VERSION:2.0
PRODID:-// - ECPv6.15.14//NONSGML v1.0//EN
CALSCALE:GREGORIAN
METHOD:PUBLISH
X-ORIGINAL-URL:https://kohero-magazin.com
X-WR-CALDESC:Veranstaltungen für 
REFRESH-INTERVAL;VALUE=DURATION:PT1H
X-Robots-Tag:noindex
X-PUBLISHED-TTL:PT1H
BEGIN:VTIMEZONE
TZID:Europe/Berlin
BEGIN:DAYLIGHT
TZOFFSETFROM:+0100
TZOFFSETTO:+0200
TZNAME:CEST
DTSTART:20240331T010000
END:DAYLIGHT
BEGIN:STANDARD
TZOFFSETFROM:+0200
TZOFFSETTO:+0100
TZNAME:CET
DTSTART:20241027T010000
END:STANDARD
BEGIN:DAYLIGHT
TZOFFSETFROM:+0100
TZOFFSETTO:+0200
TZNAME:CEST
DTSTART:20250330T010000
END:DAYLIGHT
BEGIN:STANDARD
TZOFFSETFROM:+0200
TZOFFSETTO:+0100
TZNAME:CET
DTSTART:20251026T010000
END:STANDARD
BEGIN:DAYLIGHT
TZOFFSETFROM:+0100
TZOFFSETTO:+0200
TZNAME:CEST
DTSTART:20260329T010000
END:DAYLIGHT
BEGIN:STANDARD
TZOFFSETFROM:+0200
TZOFFSETTO:+0100
TZNAME:CET
DTSTART:20261025T010000
END:STANDARD
END:VTIMEZONE
BEGIN:VEVENT
DTSTART;TZID=Europe/Berlin:20251104T190000
DTEND;TZID=Europe/Berlin:20251104T220000
DTSTAMP:20260424T005544
CREATED:20251020T212156Z
LAST-MODIFIED:20251103T174655Z
UID:10000071-1762282800-1762293600@kohero-magazin.com
SUMMARY:Film & Gespräch: Was bleibt? – Das Auslandsjahr in meinem Leben
DESCRIPTION:Wir laden euch herzlich zu einem besonderen Kinoabend ins 3001 KINO ein! Gemeinsam möchten wir mit euch Popcorn genießen\, ins Gespräch kommen und mit einem spannenden Film in internationales Engagement eintauchen. \n  \nWas passiert im Film?  \nWir zeigen den Dokumentarfilm „Was bleibt? – Das Auslandsjahr in meinem Leben“. Er wirft die Frage auf: Wie prägt ein Freiwilligendienst das Leben danach? Sieben ehemalige weltwärts-Freiwillige blicken einige Jahre später zurück – mit Bildern\, Geschichten und Gefühlen aus dieser intensiven Zeit. \nDabei treffen Perspektiven aufeinander: Drei Menschen aus Tansania und Kamerun\, die erstmals nach Europa reisten\, und vier deutsche Freiwillige\, die soziale Projekte im Globalen Süden unterstützten. Der Film öffnet den Blick für die Wirkung solcher Begegnungen – persönlich\, gesellschaftlich und global. \nEin berührender Dokumentarfilm von Christian Weinert und Ferdinand Carrière mit freundlicher Unterstützung von Engagement Global mit Mitteln des BMZ. \nTrailer: hier könnt ihr euch den Trailer anschauen  \nSprache: Deutsch/Englisch (mit deutschen & englischen Untertiteln) \nFilmlänge: 83 Minuten \nIm Anschluss laden wir euch herzlich zu einem Gespräch mit Christian Weinert und zum offenen Austausch im Publikum ein. \n  \nTickets:   \nFür euch ist der Eintritt kostenlos. Ihr könnt euer Ticket unten reservieren und es am Veranstaltungstag spätestens 20 Minuten vor Beginn an der Kinokasse des 3001 KINO’s abholen. Natürlich seid ihr auch herzlich willkommen\, ganz spontan vorbeizuschauen und euch direkt vor Ort ein Ticket zu sichern. \nWir freuen uns auf euch!  \n  \nVeranstalter*innen des Kinoabends:   \nÜber den Tellerrand Hamburg e.V organisiert Begegnungsaktivitäten für Menschen mit und ohne Flucht- und Migrationsgeschichte. \nDas Haus des Engagements bietet Engagierten kostenfrei Räume und Coworking-Arbeitsplätze sowie viele Angebote für Vernetzung\, Beratung und Weiterbildung im Herzen der Sternschanze.  \nDas kohero Magazin ist eine migrantisch-journalistische Plattform\, auf der Menschen mit Migrationsgeschichte ihre Perspektiven und Erfahrungen teilen.  Neben dem Magazin organisieren wir Events für unterschiedliche migrantische Communities. \n 
URL:https://kohero-magazin.com/event/film-gespraech-was-bleibt/
LOCATION:3001 Kino\, Schanzenstraße 75 (im Hof)\, Hamburg\, 20357
CATEGORIES:kommunity
ATTACH;FMTTYPE=image/jpeg:https://kohero-magazin.com/wp-content/uploads/2025/09/Cover-2.jpg
END:VEVENT
END:VCALENDAR