BEGIN:VCALENDAR
VERSION:2.0
PRODID:-// - ECPv6.15.14//NONSGML v1.0//EN
CALSCALE:GREGORIAN
METHOD:PUBLISH
X-ORIGINAL-URL:https://kohero-magazin.com
X-WR-CALDESC:Veranstaltungen für 
REFRESH-INTERVAL;VALUE=DURATION:PT1H
X-Robots-Tag:noindex
X-PUBLISHED-TTL:PT1H
BEGIN:VTIMEZONE
TZID:Europe/Berlin
BEGIN:DAYLIGHT
TZOFFSETFROM:+0100
TZOFFSETTO:+0200
TZNAME:CEST
DTSTART:20230326T010000
END:DAYLIGHT
BEGIN:STANDARD
TZOFFSETFROM:+0200
TZOFFSETTO:+0100
TZNAME:CET
DTSTART:20231029T010000
END:STANDARD
BEGIN:DAYLIGHT
TZOFFSETFROM:+0100
TZOFFSETTO:+0200
TZNAME:CEST
DTSTART:20240331T010000
END:DAYLIGHT
BEGIN:STANDARD
TZOFFSETFROM:+0200
TZOFFSETTO:+0100
TZNAME:CET
DTSTART:20241027T010000
END:STANDARD
BEGIN:DAYLIGHT
TZOFFSETFROM:+0100
TZOFFSETTO:+0200
TZNAME:CEST
DTSTART:20250330T010000
END:DAYLIGHT
BEGIN:STANDARD
TZOFFSETFROM:+0200
TZOFFSETTO:+0100
TZNAME:CET
DTSTART:20251026T010000
END:STANDARD
END:VTIMEZONE
BEGIN:VEVENT
DTSTART;TZID=Europe/Berlin:20240611T173000
DTEND;TZID=Europe/Berlin:20240611T213000
DTSTAMP:20260421T042921
CREATED:20240523T154008Z
LAST-MODIFIED:20240523T154008Z
UID:10000024-1718127000-1718141400@kohero-magazin.com
SUMMARY:kohero Falafelparty im KörberHaus
DESCRIPTION:Leckeres Essen\, gute Gespräche und ein spannendes Haus! \nDie Falafelparty ist zum Austausch\, Kennenlernen und Vernetzen da. Genau darum geht es auch im KörberHaus – einem offenen Ort für alle Generationen und Kulturen mitten in Bergedorf. Deshalb wollen wir die Falafel-Party im Juni gemeinsam dort feiern. \n  \nWer kann zur Falafelparty kommen?  \nAlle sind herzlich willkommen! Egal\, ob du schon seit langem bei kohero mitmachst oder uns einfach mal kennenlernen willst\, komm gerne vorbei. Auch wenn du Interesse an einer Kooperation oder Zusammenarbeit mit kohero hast\, ist die Falafelparty der richtige Ort\, um in zwangloser Atmosphäre zu vernetzen. \nDas Besondere an dieser Falafel-Party ist der Ort. Das KörberHaus ist ein Gemeinschaftswerk von 9 unterschiedlichen Organisationen mit ihren vielfältigen Angeboten vom Sprachen lernen\, über Sport bis hin zum Theater. Eingeladen wurde Kohero von der Bücherhalle Bergedorf und dem Bergedorfer Bezirksamt\, die ebenfalls Teil des KörberHauses sind. Wenn du Lust hast das KörberHaus und seine Menschen kennenzulernen\, komm vorbei! \n  \nUnd was passiert bei der Falafelparty? \nAb 17 Uhr startet die Falafel-Party im Foyer des KörberHauses\, du kannst aber auch noch später vorbeischauen. Es gibt Falafel-Sandwiches zum Selbstmachen\, Livemusik und die Möglichkeit\, die kohero Community und das KörberHaus kennenzulernen. Außerdem könnt ihr die kohero Printausgabe kaufen. \n  \nAnmeldung:  \nAlle können teilnehmen! Du möchtest dabei sein? Dann buch dir jetzt dein Ticket oder bezahle vor Ort. Schreib uns dafür gerne eine Email: limo@kohero-magazin.com \n\n\n\n\n\n\n\n\n\nWie finde ich das KörberHaus? \nDas KörberHaus liegt direkt neben dem Bergedorfer S-Bahnhof\, den ihr vom Hamburger Hauptbahnhof aus in 20 Minuten mit der S2 erreicht. Alle Anreisemöglichkeiten findet ihr hier.
URL:https://kohero-magazin.com/event/kohero-falafel-party-im-koerberhaus/
LOCATION:KörberHaus\, Holzhude 1\, Hamburg\, 21029
CATEGORIES:Falafel-Party
ATTACH;FMTTYPE=:
END:VEVENT
END:VCALENDAR