BEGIN:VCALENDAR
VERSION:2.0
PRODID:-// - ECPv6.15.14//NONSGML v1.0//EN
CALSCALE:GREGORIAN
METHOD:PUBLISH
X-ORIGINAL-URL:https://kohero-magazin.com
X-WR-CALDESC:Veranstaltungen für 
REFRESH-INTERVAL;VALUE=DURATION:PT1H
X-Robots-Tag:noindex
X-PUBLISHED-TTL:PT1H
BEGIN:VTIMEZONE
TZID:Europe/Berlin
BEGIN:DAYLIGHT
TZOFFSETFROM:+0100
TZOFFSETTO:+0200
TZNAME:CEST
DTSTART:20230326T010000
END:DAYLIGHT
BEGIN:STANDARD
TZOFFSETFROM:+0200
TZOFFSETTO:+0100
TZNAME:CET
DTSTART:20231029T010000
END:STANDARD
BEGIN:DAYLIGHT
TZOFFSETFROM:+0100
TZOFFSETTO:+0200
TZNAME:CEST
DTSTART:20240331T010000
END:DAYLIGHT
BEGIN:STANDARD
TZOFFSETFROM:+0200
TZOFFSETTO:+0100
TZNAME:CET
DTSTART:20241027T010000
END:STANDARD
BEGIN:DAYLIGHT
TZOFFSETFROM:+0100
TZOFFSETTO:+0200
TZNAME:CEST
DTSTART:20250330T010000
END:DAYLIGHT
BEGIN:STANDARD
TZOFFSETFROM:+0200
TZOFFSETTO:+0100
TZNAME:CET
DTSTART:20251026T010000
END:STANDARD
END:VTIMEZONE
BEGIN:VEVENT
DTSTART;TZID=Europe/Berlin:20240714T120000
DTEND;TZID=Europe/Berlin:20240714T140000
DTSTAMP:20260421T065812
CREATED:20240605T013947Z
LAST-MODIFIED:20240605T013947Z
UID:10000027-1720958400-1720965600@kohero-magazin.com
SUMMARY:Heimat to Go - Online-Workshop
DESCRIPTION:\,\,Auch wenn du deine Heimat verlassen hast\, kannst du sie in dir tragen.’’ \nHeimat to Go ist eine neue Workshop-Reihe und ein Raum für Austausch zum Thema \,\,Heimat’’. In diesem Workshop kannst du durch das Kreative Schreiben und durch das Erzählen\, deine Heimat sichtbar machen. \nBeim ersten Treffen wird es um das innere Bild vom Land deiner Heimat gehen. Zudem möchten wir uns die Frage stellen\, wie viel Heimat wir in uns tragen. Zu diesen und weiteren Themen werden wir schreiben und uns austauschen. \n  \nZu unserer Referentin: \nErkeaiym kommt aus Kirgisistan und lebt seit 17 Jahren in Deutschland. Sie ist Diplom Pädagogin und hat 8 Jahre in der ambulanten Sozialpsychiatrie gearbeitet. Aktuell bietet sie Workshops zum Thema \,\,Heimatverlust und Identitätskonflikte’’ an. Sie arbeitet mit ressourcenorientierten Fragen und kreativen Methoden. \n  \nDer Workshop richtet sich an alle Personen\, die eine Migrations- oder Fluchtgeschichte haben und sich angesprochen fühlen. Die Teilnehmer*innen können gerne Stifte und Papier zum Schreiben mitbringen. \nDu möchtest dabei sein? Dann buch dir jetzt dein Ticket
URL:https://kohero-magazin.com/event/heimat-to-go-online-workshop/
CATEGORIES:Workshops
ATTACH;FMTTYPE=:
LOCATION:https://kohero-magazin.com/event/heimat-to-go-online-workshop/
END:VEVENT
END:VCALENDAR