BEGIN:VCALENDAR
VERSION:2.0
PRODID:-// - ECPv6.15.14//NONSGML v1.0//EN
CALSCALE:GREGORIAN
METHOD:PUBLISH
X-ORIGINAL-URL:https://kohero-magazin.com
X-WR-CALDESC:Veranstaltungen für 
REFRESH-INTERVAL;VALUE=DURATION:PT1H
X-Robots-Tag:noindex
X-PUBLISHED-TTL:PT1H
BEGIN:VTIMEZONE
TZID:Europe/Berlin
BEGIN:DAYLIGHT
TZOFFSETFROM:+0100
TZOFFSETTO:+0200
TZNAME:CEST
DTSTART:20230326T010000
END:DAYLIGHT
BEGIN:STANDARD
TZOFFSETFROM:+0200
TZOFFSETTO:+0100
TZNAME:CET
DTSTART:20231029T010000
END:STANDARD
BEGIN:DAYLIGHT
TZOFFSETFROM:+0100
TZOFFSETTO:+0200
TZNAME:CEST
DTSTART:20240331T010000
END:DAYLIGHT
BEGIN:STANDARD
TZOFFSETFROM:+0200
TZOFFSETTO:+0100
TZNAME:CET
DTSTART:20241027T010000
END:STANDARD
BEGIN:DAYLIGHT
TZOFFSETFROM:+0100
TZOFFSETTO:+0200
TZNAME:CEST
DTSTART:20250330T010000
END:DAYLIGHT
BEGIN:STANDARD
TZOFFSETFROM:+0200
TZOFFSETTO:+0100
TZNAME:CET
DTSTART:20251026T010000
END:STANDARD
END:VTIMEZONE
BEGIN:VEVENT
DTSTART;TZID=Europe/Berlin:20240619T170000
DTEND;TZID=Europe/Berlin:20240619T193000
DTSTAMP:20260425T142316
CREATED:20240215T120707Z
LAST-MODIFIED:20240215T120707Z
UID:10000018-1718816400-1718825400@kohero-magazin.com
SUMMARY:Online-Workshop: Professioneller Instagram-Aufbau für Anfänger*innen
DESCRIPTION:Ob als kreative Künstler*in\, Selbstständige oder Journalist*in\, ob schon lange dabei oder erst ganz am Anfang:  Heutzutage kommen wir nicht mehr gut drumherum\, Social Media nicht zu nutzen\, um unsere Arbeit zu zeigen oder uns zu vernetzen.    \nIn diesem Workshop möchten wir die ersten Schritte zu einem professionellen Instagram-Account erproben.  Dabei werden wir uns mit Themen wie Grundlagen eines guten Accounts\, Funktionen von Posts\, erste Designs und Vernetzung via Instagram beschäftigen. \n  \nDie Teilnehmer*innen werden ihre ersten Konzepte schreiben und hilfreiche Tools kennenlernen\, um ihre Instagram-Accounts zu managen. Für den Workshop braucht ihr keine Vorkenntnisse oder Vorerfahrungen\, nur einen Laptop mit funktionierender Kamera + Micro.  \n  \nDer Workshop ist offen für alle Interessierten. Möchtest du dabei sein? \nDann hol dir dein Ticket! Wir freuen uns auf dich \n\n\n\n\n \n\n\n\n \n\n\n\n \n\n\n\n\n  \n\n\n\n\n\n 
URL:https://kohero-magazin.com/event/instagram-aufbau/
CATEGORIES:Journalismus 1x1
ATTACH;FMTTYPE=:
LOCATION:https://kohero-magazin.com/event/instagram-aufbau/
END:VEVENT
END:VCALENDAR