BEGIN:VCALENDAR
VERSION:2.0
PRODID:-// - ECPv6.15.14//NONSGML v1.0//EN
CALSCALE:GREGORIAN
METHOD:PUBLISH
X-ORIGINAL-URL:https://kohero-magazin.com
X-WR-CALDESC:Veranstaltungen für 
REFRESH-INTERVAL;VALUE=DURATION:PT1H
X-Robots-Tag:noindex
X-PUBLISHED-TTL:PT1H
BEGIN:VTIMEZONE
TZID:Europe/Berlin
BEGIN:DAYLIGHT
TZOFFSETFROM:+0100
TZOFFSETTO:+0200
TZNAME:CEST
DTSTART:20230326T010000
END:DAYLIGHT
BEGIN:STANDARD
TZOFFSETFROM:+0200
TZOFFSETTO:+0100
TZNAME:CET
DTSTART:20231029T010000
END:STANDARD
BEGIN:DAYLIGHT
TZOFFSETFROM:+0100
TZOFFSETTO:+0200
TZNAME:CEST
DTSTART:20240331T010000
END:DAYLIGHT
BEGIN:STANDARD
TZOFFSETFROM:+0200
TZOFFSETTO:+0100
TZNAME:CET
DTSTART:20241027T010000
END:STANDARD
BEGIN:DAYLIGHT
TZOFFSETFROM:+0100
TZOFFSETTO:+0200
TZNAME:CEST
DTSTART:20250330T010000
END:DAYLIGHT
BEGIN:STANDARD
TZOFFSETFROM:+0200
TZOFFSETTO:+0100
TZNAME:CET
DTSTART:20251026T010000
END:STANDARD
END:VTIMEZONE
BEGIN:VEVENT
DTSTART;TZID=Europe/Berlin:20240703T180000
DTEND;TZID=Europe/Berlin:20240703T200000
DTSTAMP:20260421T073938
CREATED:20240611T161159Z
LAST-MODIFIED:20240611T161159Z
UID:10000028-1720029600-1720036800@kohero-magazin.com
SUMMARY:Schreibkafé Juli
DESCRIPTION:Das schreibkafé ist ein offener Schreib-Workshop. \nDiesmal schreiben wir zum Thema: (Un)sicherheiten? \nZu Beginn tauschen wir uns zu dem Thema aus und danach bekommst du Impulse\, um ins Schreiben zu kommen. \nWas bedeutet Sicherheit für Menschen mit Migrations- und Fluchtgeschichte?  \nWann fühlen wir uns sicher und wie gehen wir mit dem Gefühl von Unsicherheit um? \n  \nDie Artikel können\, wenn gewünscht\, im Online-Magazin von kohero veröffentlicht werden. \nDas schreibkafé richtet sich an Menschen mit Migrations- und Fluchtgeschichte\, die Lust aufs Schreiben haben. Für den Online-Workshop benötigst du etwas zum Schreiben.  \nDu möchtest dabei sein? Dann buch dir jetzt dein Ticket
URL:https://kohero-magazin.com/event/schreibkafe-juli/
CATEGORIES:schreibkafé
ATTACH;FMTTYPE=:
LOCATION:https://kohero-magazin.com/event/schreibkafe-juli/
END:VEVENT
BEGIN:VEVENT
DTSTART;TZID=Europe/Berlin:20240714T120000
DTEND;TZID=Europe/Berlin:20240714T140000
DTSTAMP:20260421T073938
CREATED:20240605T013947Z
LAST-MODIFIED:20240605T013947Z
UID:10000027-1720958400-1720965600@kohero-magazin.com
SUMMARY:Heimat to Go - Online-Workshop
DESCRIPTION:\,\,Auch wenn du deine Heimat verlassen hast\, kannst du sie in dir tragen.’’ \nHeimat to Go ist eine neue Workshop-Reihe und ein Raum für Austausch zum Thema \,\,Heimat’’. In diesem Workshop kannst du durch das Kreative Schreiben und durch das Erzählen\, deine Heimat sichtbar machen. \nBeim ersten Treffen wird es um das innere Bild vom Land deiner Heimat gehen. Zudem möchten wir uns die Frage stellen\, wie viel Heimat wir in uns tragen. Zu diesen und weiteren Themen werden wir schreiben und uns austauschen. \n  \nZu unserer Referentin: \nErkeaiym kommt aus Kirgisistan und lebt seit 17 Jahren in Deutschland. Sie ist Diplom Pädagogin und hat 8 Jahre in der ambulanten Sozialpsychiatrie gearbeitet. Aktuell bietet sie Workshops zum Thema \,\,Heimatverlust und Identitätskonflikte’’ an. Sie arbeitet mit ressourcenorientierten Fragen und kreativen Methoden. \n  \nDer Workshop richtet sich an alle Personen\, die eine Migrations- oder Fluchtgeschichte haben und sich angesprochen fühlen. Die Teilnehmer*innen können gerne Stifte und Papier zum Schreiben mitbringen. \nDu möchtest dabei sein? Dann buch dir jetzt dein Ticket
URL:https://kohero-magazin.com/event/heimat-to-go-online-workshop/
CATEGORIES:Workshops
ATTACH;FMTTYPE=:
LOCATION:https://kohero-magazin.com/event/heimat-to-go-online-workshop/
END:VEVENT
BEGIN:VEVENT
DTSTART;TZID=Europe/Berlin:20240723T183000
DTEND;TZID=Europe/Berlin:20240723T203000
DTSTAMP:20260421T073938
CREATED:20240625T235928Z
LAST-MODIFIED:20240625T235928Z
UID:10000029-1721759400-1721766600@kohero-magazin.com
SUMMARY:kohero Salon: Claudia Tuyết Scheffel - Scherben im Plateau
DESCRIPTION:Im kohero Salon lesen migrantische Autor*innen in gemütlicher Atmosphäre aus ihren Büchern. Danach habt ihr die Möglichkeit\, euch mit den Autor*innen auszutauschen und zu diskutieren. \n  \nWie läuft ein kohero Salon ab?\nAb 18:30 Uhr seid ihr zu uns eingeladen. Sucht euch ein gemütliches Plätzchen\, und los geht’s! Der*die Autor*in liest 30-45 Minuten. Danach ist Platz für eure Fragen\, Kommentare und für Austausch über die Themen des Buches. Im Anschluss habt ihr außerdem meistens die Möglichkeit\, das Buch zu kaufen. Für Tee\, Getränke und kleine Snacks sorgen wir. \n  \nWorum gehts dieses Mal? \nIm Juli liest Claudia Tuyết Scheffel aus ihrem Roman \,\,Scherben im Plateau“ vor. \nAuf einer Fähre nach Grönland fällt mitten in der Nacht der Strom aus. Zunächst scheint nichts verändert\, doch beim Entladen des Schiffes wird ein leerer Transporter entdeckt\, in dem sich lediglich ein Tagebuch befindet. \nSchnell wird klar\, dass eine Passagierin fehlt: Die Medien stürzen sich auf das Verschwinden der 21-jährigen Josi Nguyen.\nEin Hochschulseminar beschäftigt sich mit dem Vermisstenfall und analysiert Josis zurückgelassene Novelle. \n  \nClaudia Tuyết Scheffel wurde 1995 als Tochter einer vietnamesischen ehemaligen Vertragsarbeiterin und eines DDR-deutschen Vaters in Chemnitz geboren. Sie studierte Film an der Hochschule für Bildende Künste HFBK Hamburg\, wo sie mit dem Spielfilm „Lonig & Havendel“ abschloss. \n  \n  \nWer kann teilnehmen? Was kostet die Veranstaltung? \nAlle können teilnehmen! Du möchtest dabei sein? Dann buch dir jetzt dein Ticket oder bezahle vor Ort. Schreibe uns dafür gerne eine Email: limo@kohero-magazin.com \n\n\n\n\n\n\n\n\n\nKann ich Autor*innen vorschlagen?  \nGerne! Wir freuen uns über deine Ideen zum kohero Salon. Schreib uns an: hussam@kohero-magazin.de
URL:https://kohero-magazin.com/event/scherben-im-plateau/
LOCATION:kohero Haus\, Bornstraße 22\, Hamburg\, 20146
CATEGORIES:kohero Salon
ATTACH;FMTTYPE=:
END:VEVENT
BEGIN:VEVENT
DTSTART;TZID=Europe/Berlin:20240731T180000
DTEND;TZID=Europe/Berlin:20240731T220000
DTSTAMP:20260421T073938
CREATED:20240716T194727Z
LAST-MODIFIED:20240716T194727Z
UID:10000034-1722448800-1722463200@kohero-magazin.com
SUMMARY:Falafelparty Juli
DESCRIPTION:Was ist eine Falafelparty?  \n1x im Monat findet eine Falafelparty in unserem Büro statt! Es gibt Falafel-Sandwiches zum Selbstmachen\, gute Musik und die Möglichkeit\, unsere kommunity kennenzulernen. \n  \nWer kann zur Party kommen?  \nAlle sind herzlich willkommen! Egal\, ob du schon seit langem bei kohero mitmachst oder uns einfach mal kennenlernen willst\, komm gerne vorbei. \nAuch wenn du Interesse an einer Kooperation oder Zusammenarbeit mit kohero hast\, ist die Falafelparty der richtige Ort\, um in zwangloser Atmosphäre zu vernetzen. \nAb 18 Uhr sind unsere Türen für euch geöffnet\, du kannst aber auch noch später vorbei schauen. \nFreu dich auf leckeres Essen und gute Gespräche! \n  \nHast du Interesse? Dann kannst dir unten ein Ticket holen oder bezahle vor Ort. Schreibe uns dafür gerne eine Email: limo@kohero-magazin.com \n 
URL:https://kohero-magazin.com/event/falafelparty-juli/
LOCATION:kohero Haus\, Bornstraße 22\, Hamburg\, 20146
CATEGORIES:Falafel-Party
ATTACH;FMTTYPE=:
END:VEVENT
END:VCALENDAR