BEGIN:VCALENDAR
VERSION:2.0
PRODID:-// - ECPv6.15.14//NONSGML v1.0//EN
CALSCALE:GREGORIAN
METHOD:PUBLISH
X-ORIGINAL-URL:https://kohero-magazin.com
X-WR-CALDESC:Veranstaltungen für 
REFRESH-INTERVAL;VALUE=DURATION:PT1H
X-Robots-Tag:noindex
X-PUBLISHED-TTL:PT1H
BEGIN:VTIMEZONE
TZID:Europe/Berlin
BEGIN:DAYLIGHT
TZOFFSETFROM:+0100
TZOFFSETTO:+0200
TZNAME:CEST
DTSTART:20230326T010000
END:DAYLIGHT
BEGIN:STANDARD
TZOFFSETFROM:+0200
TZOFFSETTO:+0100
TZNAME:CET
DTSTART:20231029T010000
END:STANDARD
BEGIN:DAYLIGHT
TZOFFSETFROM:+0100
TZOFFSETTO:+0200
TZNAME:CEST
DTSTART:20240331T010000
END:DAYLIGHT
BEGIN:STANDARD
TZOFFSETFROM:+0200
TZOFFSETTO:+0100
TZNAME:CET
DTSTART:20241027T010000
END:STANDARD
BEGIN:DAYLIGHT
TZOFFSETFROM:+0100
TZOFFSETTO:+0200
TZNAME:CEST
DTSTART:20250330T010000
END:DAYLIGHT
BEGIN:STANDARD
TZOFFSETFROM:+0200
TZOFFSETTO:+0100
TZNAME:CET
DTSTART:20251026T010000
END:STANDARD
END:VTIMEZONE
BEGIN:VEVENT
DTSTART;TZID=Europe/Berlin:20240606T190000
DTEND;TZID=Europe/Berlin:20240606T210000
DTSTAMP:20260423T174327
CREATED:20240514T103053Z
LAST-MODIFIED:20240514T103053Z
UID:10000023-1717700400-1717707600@kohero-magazin.com
SUMMARY:Sicherheit als Privileg - Das Konzept Sicherheit aus migrantischer Perspektive
DESCRIPTION:Anfang des Jahres haben die Ergebnisse der Correctiv-Recherchen die Menschen im Land erschüttert. \nDie Pläne der Rechten betreffen uns alle und betreffen uns doch in unterschiedlicher Art und Weise\, weil sie für Menschen mit (sichtbarer) Migrationsgeschichte eine zusätzliche Bedrohungskulisse aufbauen\, für Menschen ohne Papiere oder mit unsicherem Aufenthaltsstatus den Druck erhöhen\, generell das Signal senden\, hier seien nicht alle Menschen willkommen. \n  \nDas Sicherheitsgefühl vieler Menschen hat sich verändert. Doch schon vor Januar galt das demokratische Sicherheitsversprechen in unserer Gesellschaft nicht im gleichen Maß für alle. Menschen sind in diesem Land von jeher aufgrund ihrer Herkunft von Rassismus betroffen\, von Anfeindungen\, von Gewalt. Gleichzeitig ist bekannt\, dass ein grundlegendes gesellschaftliches Sicherheitsempfinden demokratiefördernd und -stabilisierend wirkt. \nWir diskutieren aus unterschiedlichen Perspektiven\, was das Konzept Sicherheit bedeutet\, warum sich migrantische Menschen oft nicht save fühlen können und wie wir eine sichere Gesellschaft für alle schaffen können.   \n  \nDazu haben wir diese Gäste eingeladen: \nArif Abdullah Haidary – Flüchtlingsrat Bayern\, bietet Selbstverteidigungskurse für Menschen Migrations- und Fluchtgeschichte an \nEva Groß – Kriminologin und Soziologin an der Hochschule der Akademie der Polizei Hamburg \nModeration: Sarah Zaheer – Redaktionsleiterin kohero Magazin   \n  \nWir bemühen uns\, unsere Angebote inklusiv und so barrierearm wie möglich zu gestalten. Sollten Sie Unterstützungsbedarf haben\, wie z.B. Gebärdensprache\, sprechen Sie uns gerne an! Die Veranstaltung ist eine Kooperation mit der GWA St. Pauli e.V. und der Heinrich-Böll-Stiftung Hamburg. Gefördert von der Landeszentrale für politische Bildung Hamburg.   \nZur Anmeldung bitten wir um eine Reservierung (siehe Ticket unten). \n\n 
URL:https://kohero-magazin.com/event/sicherheit-privileg/
LOCATION:Kölibri\, Hein-Köllisch-Platz 11+12\, Hamburg
CATEGORIES:Panel
ATTACH;FMTTYPE=:
END:VEVENT
BEGIN:VEVENT
DTSTART;TZID=Europe/Berlin:20240611T173000
DTEND;TZID=Europe/Berlin:20240611T213000
DTSTAMP:20260423T174327
CREATED:20240523T154008Z
LAST-MODIFIED:20240523T154008Z
UID:10000024-1718127000-1718141400@kohero-magazin.com
SUMMARY:kohero Falafelparty im KörberHaus
DESCRIPTION:Leckeres Essen\, gute Gespräche und ein spannendes Haus! \nDie Falafelparty ist zum Austausch\, Kennenlernen und Vernetzen da. Genau darum geht es auch im KörberHaus – einem offenen Ort für alle Generationen und Kulturen mitten in Bergedorf. Deshalb wollen wir die Falafel-Party im Juni gemeinsam dort feiern. \n  \nWer kann zur Falafelparty kommen?  \nAlle sind herzlich willkommen! Egal\, ob du schon seit langem bei kohero mitmachst oder uns einfach mal kennenlernen willst\, komm gerne vorbei. Auch wenn du Interesse an einer Kooperation oder Zusammenarbeit mit kohero hast\, ist die Falafelparty der richtige Ort\, um in zwangloser Atmosphäre zu vernetzen. \nDas Besondere an dieser Falafel-Party ist der Ort. Das KörberHaus ist ein Gemeinschaftswerk von 9 unterschiedlichen Organisationen mit ihren vielfältigen Angeboten vom Sprachen lernen\, über Sport bis hin zum Theater. Eingeladen wurde Kohero von der Bücherhalle Bergedorf und dem Bergedorfer Bezirksamt\, die ebenfalls Teil des KörberHauses sind. Wenn du Lust hast das KörberHaus und seine Menschen kennenzulernen\, komm vorbei! \n  \nUnd was passiert bei der Falafelparty? \nAb 17 Uhr startet die Falafel-Party im Foyer des KörberHauses\, du kannst aber auch noch später vorbeischauen. Es gibt Falafel-Sandwiches zum Selbstmachen\, Livemusik und die Möglichkeit\, die kohero Community und das KörberHaus kennenzulernen. Außerdem könnt ihr die kohero Printausgabe kaufen. \n  \nAnmeldung:  \nAlle können teilnehmen! Du möchtest dabei sein? Dann buch dir jetzt dein Ticket oder bezahle vor Ort. Schreib uns dafür gerne eine Email: limo@kohero-magazin.com \n\n\n\n\n\n\n\n\n\nWie finde ich das KörberHaus? \nDas KörberHaus liegt direkt neben dem Bergedorfer S-Bahnhof\, den ihr vom Hamburger Hauptbahnhof aus in 20 Minuten mit der S2 erreicht. Alle Anreisemöglichkeiten findet ihr hier.
URL:https://kohero-magazin.com/event/kohero-falafel-party-im-koerberhaus/
LOCATION:KörberHaus\, Holzhude 1\, Hamburg\, 21029
CATEGORIES:Falafel-Party
ATTACH;FMTTYPE=:
END:VEVENT
BEGIN:VEVENT
DTSTART;TZID=Europe/Berlin:20240619T170000
DTEND;TZID=Europe/Berlin:20240619T193000
DTSTAMP:20260423T174327
CREATED:20240215T120707Z
LAST-MODIFIED:20240215T120707Z
UID:10000018-1718816400-1718825400@kohero-magazin.com
SUMMARY:Online-Workshop: Professioneller Instagram-Aufbau für Anfänger*innen
DESCRIPTION:Ob als kreative Künstler*in\, Selbstständige oder Journalist*in\, ob schon lange dabei oder erst ganz am Anfang:  Heutzutage kommen wir nicht mehr gut drumherum\, Social Media nicht zu nutzen\, um unsere Arbeit zu zeigen oder uns zu vernetzen.    \nIn diesem Workshop möchten wir die ersten Schritte zu einem professionellen Instagram-Account erproben.  Dabei werden wir uns mit Themen wie Grundlagen eines guten Accounts\, Funktionen von Posts\, erste Designs und Vernetzung via Instagram beschäftigen. \n  \nDie Teilnehmer*innen werden ihre ersten Konzepte schreiben und hilfreiche Tools kennenlernen\, um ihre Instagram-Accounts zu managen. Für den Workshop braucht ihr keine Vorkenntnisse oder Vorerfahrungen\, nur einen Laptop mit funktionierender Kamera + Micro.  \n  \nDer Workshop ist offen für alle Interessierten. Möchtest du dabei sein? \nDann hol dir dein Ticket! Wir freuen uns auf dich \n\n\n\n\n \n\n\n\n \n\n\n\n \n\n\n\n\n  \n\n\n\n\n\n 
URL:https://kohero-magazin.com/event/instagram-aufbau/
CATEGORIES:Journalismus 1x1
ATTACH;FMTTYPE=:
LOCATION:https://kohero-magazin.com/event/instagram-aufbau/
END:VEVENT
BEGIN:VEVENT
DTSTART;TZID=Europe/Berlin:20240625T183000
DTEND;TZID=Europe/Berlin:20240625T203000
DTSTAMP:20260423T174327
CREATED:20240605T004839Z
LAST-MODIFIED:20240605T004839Z
UID:10000026-1719340200-1719347400@kohero-magazin.com
SUMMARY:kohero Salon: Gün Tank – Die Optimistinnen
DESCRIPTION:Im kohero Salon lesen migrantische Autor*innen in gemütlicher Atmosphäre aus ihren Büchern. Danach habt ihr die Möglichkeit\, euch mit den Autor*innen auszutauschen und zu diskutieren. \n  \nWie läuft ein kohero Salon ab?\nAb 18:30 Uhr seid ihr zu uns eingeladen. Sucht euch ein gemütliches Plätzchen\, und los geht’s! Der*die Autor*in liest 30-45 Minuten. Danach ist Platz für eure Fragen\, Kommentare und für Austausch über die Themen des Buches. Im Anschluss habt ihr außerdem meistens die Möglichkeit\, das Buch zu kaufen. Für Tee\, Getränke und kleine Snacks sorgen wir. \n  \nWorum gehts dieses Mal? \nIm Juni liest Gün Tank aus ihrem Buch \,\,Die Optimistinnen“ vor. \nMit ihrem Debüt »Die Optimistinnen« feiert Gün Tank die vielen Frauen\, die dieses Land mit aufbauten und veränderten\, und die sich doch in der deutschen Geschichte kaum wiederfinden. Starke Frauen\, mutige Frauen: unsere Mütter. Unsere Großmütter. \nDie 22-jährige Nour kommt in den siebziger Jahren nach Deutschland\, um zu arbeiten. Sie ist eine der vielen Gastarbeiterinnen\, sie ist jung\, motiviert und optimistisch. Nour kommt aus Istanbul und lebt nun in einem Wohnheim in der Oberpfalz\, mit Frauen aus Spanien\, Italien\, Griechenland\, Jugoslawien\, Marokko\, Tunesien oder der Türkei. \nWährend Nour Minirock trägt\, tragen die oberpfälzischen Frauen im Dorf Kopftuch. Die Arbeitsbedingungen in der Fabrik sind fragwürdig\, die Entlohnung ist nicht gerecht. Als Nour vom Frauenstreik im Thüringen der zwanziger Jahre erfährt\, ist sie inspiriert und stellt sich diesem Land: Gemeinsam mit all ihren Freundinnen wird sie für die Rechte der Arbeiter und vor allem der Arbeiterinnen kämpfen. \n  \n  \nWer kann teilnehmen? Was kostet die Veranstaltung? \nAlle können teilnehmen! Du möchtest dabei sein? Dann buch dir jetzt dein Ticket oder bezahle vor Ort. Schreibe uns dafür gerne eine Email: limo@kohero-magazin.com \n\n\n\n\n\n\n\n\n\nKann ich Autor*innen vorschlagen?  \nGerne! Wir freuen uns über deine Ideen zum kohero Salon. Schreib uns an: hussam@kohero-magazin.de \n  \nFoto: © Heike Steinweg
URL:https://kohero-magazin.com/event/guen-tank-die-optimistinnen/
LOCATION:kohero Haus\, Bornstraße 22\, Hamburg\, 20146
CATEGORIES:kohero Salon
ATTACH;FMTTYPE=:
END:VEVENT
BEGIN:VEVENT
DTSTART;TZID=Europe/Berlin:20240626T180000
DTEND;TZID=Europe/Berlin:20240626T220000
DTSTAMP:20260423T174327
CREATED:20240528T124904Z
LAST-MODIFIED:20240528T124904Z
UID:10000025-1719424800-1719439200@kohero-magazin.com
SUMMARY:Falafelparty Juni
DESCRIPTION:Die Falafelparty ist zum Kennenlernen\, Vernetzen und natürlich Falafel essen da. Freu dich auf leckeres Essen und gute Gespräche! \nWer kann zur Falafelparty kommen?  \nAlle sind herzlich willkommen! Egal\, ob du schon seit langem bei kohero mitmachst oder uns einfach mal kennenlernen willst\, komm gerne vorbei. Auch wenn du Interesse an einer Kooperation oder Zusammenarbeit mit kohero hast\, ist die Falafelparty der richtige Ort\, um in zwangloser Atmosphäre zu vernetzen. \n  \nUnd was passiert bei der Falafelparty? \nAb 18 Uhr sind unsere Türen für euch geöffnet\, du kannst aber auch noch später vorbei schauen. Es gibt Falafel-Sandwiches zum Selbstmachen\, gute Musik und die Möglichkeit\, unsere kommunity kennenzulernen und kohero Printausgaben zu kaufen. \n  \nWann ist die nächste Falafelparty? \nDie Falafelparty findet immer am letzten Mittwoch im Monat statt. \nAlle können teilnehmen! Du möchtest dabei sein? Dann buch dir jetzt dein Ticket oder bezahle vor Ort. Schreibe uns dafür gerne eine Email: limo@kohero-magazin.com \n\n\n\n\n\n\n\n\n \n\n\n\n\n\n\n\n\n\n\n\n\n \n\n\n\n \n\n\n\n 
URL:https://kohero-magazin.com/event/falafel-party-juni-2/
LOCATION:kohero Haus\, Bornstraße 22\, Hamburg\, 20146
CATEGORIES:Falafel-Party
ATTACH;FMTTYPE=:
END:VEVENT
END:VCALENDAR