BEGIN:VCALENDAR
VERSION:2.0
PRODID:-// - ECPv6.15.14//NONSGML v1.0//EN
CALSCALE:GREGORIAN
METHOD:PUBLISH
X-ORIGINAL-URL:https://kohero-magazin.com
X-WR-CALDESC:Veranstaltungen für 
REFRESH-INTERVAL;VALUE=DURATION:PT1H
X-Robots-Tag:noindex
X-PUBLISHED-TTL:PT1H
BEGIN:VTIMEZONE
TZID:Europe/Berlin
BEGIN:DAYLIGHT
TZOFFSETFROM:+0100
TZOFFSETTO:+0200
TZNAME:CEST
DTSTART:20230326T010000
END:DAYLIGHT
BEGIN:STANDARD
TZOFFSETFROM:+0200
TZOFFSETTO:+0100
TZNAME:CET
DTSTART:20231029T010000
END:STANDARD
BEGIN:DAYLIGHT
TZOFFSETFROM:+0100
TZOFFSETTO:+0200
TZNAME:CEST
DTSTART:20240331T010000
END:DAYLIGHT
BEGIN:STANDARD
TZOFFSETFROM:+0200
TZOFFSETTO:+0100
TZNAME:CET
DTSTART:20241027T010000
END:STANDARD
BEGIN:DAYLIGHT
TZOFFSETFROM:+0100
TZOFFSETTO:+0200
TZNAME:CEST
DTSTART:20250330T010000
END:DAYLIGHT
BEGIN:STANDARD
TZOFFSETFROM:+0200
TZOFFSETTO:+0100
TZNAME:CET
DTSTART:20251026T010000
END:STANDARD
END:VTIMEZONE
BEGIN:VEVENT
DTSTART;TZID=Europe/Berlin:20240501T180000
DTEND;TZID=Europe/Berlin:20240501T200000
DTSTAMP:20260425T131546
CREATED:20240312T170754Z
LAST-MODIFIED:20240312T170754Z
UID:10000019-1714586400-1714593600@kohero-magazin.com
SUMMARY:Online-Schreibkafé Mai
DESCRIPTION:Das schreibkafé ist ein Schreib-Workshop zu einem bestimmten Schwerpunktthema von kohero. Diesmal schreiben wir über das Thema: Umgang mit der aktuellen politischen Lage und Sicherheitsempfinden \nZu Beginn tauschen wir uns zu dem Thema aus und danach bekommst du alle handwerklichen Impulse\, um deinen Artikel schreiben zu können. Das schreibkafé richtet sich an Menschen mit Migrations- und Fluchtgeschichte\, die Lust aufs Schreiben haben. Die Artikel können im Online-Magazin von kohero veröffentlicht werden. \n  \nWann? 01. Mai 2024  18-20 Uhr\nWo? Online \nUnser Schreibkafé findet regelmäßig statt\, immer am ersten Mittwoch im Monat. \nHast du Interesse? Dann kannst dir ein unten ein Ticket holen!
URL:https://kohero-magazin.com/event/schreibkafe-mai/
CATEGORIES:schreibkafé
ATTACH;FMTTYPE=:
END:VEVENT
BEGIN:VEVENT
DTSTART;TZID=Europe/Berlin:20240514T180000
DTEND;TZID=Europe/Berlin:20240514T200000
DTSTAMP:20260425T131546
CREATED:20240215T115936Z
LAST-MODIFIED:20240215T115936Z
UID:10000017-1715709600-1715716800@kohero-magazin.com
SUMMARY:Online-Workshop: Einführung in Journalismus-Branche
DESCRIPTION:Du wolltest schon immer gerne mit Journalismus starten\, weißt aber nicht\, wie du anfangen kannst und welche Möglichkeiten es gibt? \n\nDie Wege in den Journalismus sind unterschiedlich\, nicht immer leicht einsehbar und oft mit Barrieren verbunden. Dadurch ist es für viele marginalisierte Personen oder für Menschen ohne akademischen Abschluss nicht leicht\, im Journalismus Fuß zu fassen. \n\nDieser Workshop möchte allen Interessierten eine Orientierung bieten\, wie und wo man damit anfangen kann\, journalistisch zu arbeiten. \n\nWährend des Workshops werdet ihr neben dem Input die Möglichkeit geben\, sich über eigene Berufswünsche und Hindernisse auszutauschen. \n\n \n\nFür den Workshop braucht ihr keine Vorkenntnisse oder Vorerfahrungen. Der Workshop ist offen für alle Interessierten.\n\nHast du Interesse? Dann hol dir dein Ticket! Wir freuen uns auf dich
URL:https://kohero-magazin.com/event/einfuehrung-in-journalismus-branche/
CATEGORIES:Journalismus 1x1
ATTACH;FMTTYPE=:
END:VEVENT
BEGIN:VEVENT
DTSTART;TZID=Europe/Berlin:20240516T173000
DTEND;TZID=Europe/Berlin:20240516T193000
DTSTAMP:20260425T131546
CREATED:20240404T134430Z
LAST-MODIFIED:20240404T134430Z
UID:10000021-1715880600-1715887800@kohero-magazin.com
SUMMARY:Kreativ-Workshop: Heimat to Go
DESCRIPTION:\,\,Auch wenn du deine Heimat verlassen hast\, kannst du sie in dir tragen.’’ \nHeimat to Go ist eine neue Workshop-Reihe und ein Raum für Austausch zum Thema \,\,Heimat’’. In diesem Workshop kannst du durch das Kreative Schreiben und durch das Erzählen\, deine Heimat sichtbar machen.  \nBeim ersten Treffen wird es um das innere Bild vom Land deiner Heimat gehen. Zudem möchten wir uns die Frage stellen\, wie viel Heimat wir in uns tragen. Zu diesem und weiteren Themen werden wir schreiben und uns austauschen.  \n  \nDer Workshop richtet sich an alle Personen\, die eine Migrations- oder Fluchtgeschichte haben und sich angesprochen fühlen. Die Teilnehmer*innen können gerne Stifte und Papier zum Schreiben mitbringen.  \n  \nZu unserer Referentin:  \nErkeaiym kommt aus Kirgisistan und lebt seit 17 Jahren in Deutschland. Sie ist Diplom Pädagogin und hat 8 Jahre in der ambulanten Sozialpsychiatrie gearbeitet. Aktuell bietet sie Workshops zum Thema \,\,Heimatverlust und Identitätskonflikte’’ an. Sie arbeitet mit ressourcenorientierten Fragen und kreativen Methoden.  \n 
URL:https://kohero-magazin.com/event/kreativ-workshop-heimat-to-go/
LOCATION:kohero Haus\, Bornstraße 22\, Hamburg\, 20146
CATEGORIES:Workshops
ATTACH;FMTTYPE=:
END:VEVENT
BEGIN:VEVENT
DTSTART;TZID=Europe/Berlin:20240528T180000
DTEND;TZID=Europe/Berlin:20240528T200000
DTSTAMP:20260425T131546
CREATED:20240422T211226Z
LAST-MODIFIED:20240422T211226Z
UID:10000022-1716919200-1716926400@kohero-magazin.com
SUMMARY:kohero Salon: Lana Sirri – Shababz! Jung. Muslimisch. Selbstbestimmt.
DESCRIPTION:Im kohero Salon lesen migrantische Autor*innen in gemütlicher Atmosphäre aus ihren Büchern. Danach habt ihr die Möglichkeit\, euch mit den Autor*innen auszutauschen und zu diskutieren. \n  \nWie läuft ein kohero Salon ab?Ab 18:00 Uhr seid ihr zu uns eingeladen. Sucht euch ein gemütliches Plätzchen\, und los geht’s! Der*die Autor*in liest 30-45 Minuten. Danach ist Platz für eure Fragen\, Kommentare und für Austausch über die Themen des Buches. Im Anschluss habt ihr außerdem meistens die Möglichkeit\, das Buch zu kaufen. Für Tee\, Getränke und kleine Snacks sorgen wir. \n  \nWorum gehts dieses Mal? \nIm Mai liest Lana Sirri aus ihrem Buch (Shababz! Jung. Muslimisch. Selbstbestimmt) vor. \nZahra trägt selbstbewusst Hijab und stellt sich der weit verbreiteten Annahme\, dass sich islamischer Glaube und Feminismus gegenseitig ausschließen. Hamza hingegen ist konfrontiert mit unterschiedlichen toxischen Stereotypen über Männlichkeit und Rollen\, die er performen soll. Mariama setzt sich als Schwarze Muslimin damit auseinander\, dass ihre Lebenswelt von Kolonialismus und Diskriminierung beeinflusst ist\, während Amari einen eigenen Weg durch die scheinbar so festgelegten Kategorien Sexualität und Gender findet. \nDie vier jungen Protagonist*innen nehmen uns mit auf eine Reise durch ihre Welt und Communitys in Deutschland und darüber hinaus. Es geht um Alltagsgeschichten\, Herausforderungen und Aktivismus. \nDie interaktive Graphic Novel lädt zum Mitmachen ein und zeigt Möglichkeiten\, wie junge Menschen sich gesellschaftlich einbringen können. Sie deckt anti-muslimische Vorurteile auf und betont\, wie wichtig Resilienz\, Gemeinschaft und Selbstbestimmung sind. \n  \nWer kann teilnehmen? Was kostet die Veranstaltung? \nAlle können teilnehmen! Du möchtest dabei sein? Dann buch dir jetzt dein Ticket oder bezahle vor Ort. Schreibe uns dafür gerne eine Email: limo@kohero-magazin.com \n\n\n\n\n \n\n\n\n\nKann ich Autor*innen vorschlagen?  \nGerne! Wir freuen uns über deine Ideen zum kohero Salon. Schreib uns an: hussam@kohero-magazin.de \n\n \n \n 
URL:https://kohero-magazin.com/event/lana-sirri/
CATEGORIES:kohero Salon
ATTACH;FMTTYPE=:
END:VEVENT
BEGIN:VEVENT
DTSTART;TZID=Europe/Berlin:20240529T180000
DTEND;TZID=Europe/Berlin:20240529T220000
DTSTAMP:20260425T131546
CREATED:20231218T163600Z
LAST-MODIFIED:20231218T163600Z
UID:10000013-1717005600-1717020000@kohero-magazin.com
SUMMARY:Falafel-Party Mai
DESCRIPTION:Die Falafelparty ist zum Kennenlernen\, Vernetzen und natürlich Falafel essen da. Freu dich auf leckeres Essen und gute Gespräche! \nWer kann zur Falafelparty kommen?  \nAlle sind herzlich willkommen! Egal\, ob du schon seit langem bei kohero mitmachst oder uns einfach mal kennenlernen willst\, komm gerne vorbei. Auch wenn du Interesse an einer Kooperation oder Zusammenarbeit mit kohero hast\, ist die Falafelparty der richtige Ort\, um in zwangloser Atmosphäre zu vernetzen. \n  \nUnd was passiert bei der Falafelparty? \nAb 18 Uhr sind unsere Türen für euch geöffnet\, du kannst aber auch noch später vorbei schauen. Es gibt Falafel-Sandwiches zum Selbstmachen\, gute Musik und die Möglichkeit\, unsere kommunity kennenzulernen und kohero Printausgaben zu kaufen. \n  \nWann ist die nächste Falafelparty? \nDie Falafelparty findet immer am letzten Mittwoch im Monat statt. \nAlle können teilnehmen! Du möchtest dabei sein? Dann buch dir jetzt dein Ticket oder bezahle vor Ort. Schreibe uns dafür gerne eine Email: limo@kohero-magazin.com \n\n\n\n\n\n\n\n\n \n\n\n\n\n\n \n \n 
URL:https://kohero-magazin.com/event/falafel-party-mai/
LOCATION:kohero Haus\, Bornstraße 22\, Hamburg\, 20146
CATEGORIES:Falafel-Party
ATTACH;FMTTYPE=:
END:VEVENT
END:VCALENDAR