BEGIN:VCALENDAR
VERSION:2.0
PRODID:-// - ECPv6.15.14//NONSGML v1.0//EN
CALSCALE:GREGORIAN
METHOD:PUBLISH
X-ORIGINAL-URL:https://kohero-magazin.com
X-WR-CALDESC:Veranstaltungen für 
REFRESH-INTERVAL;VALUE=DURATION:PT1H
X-Robots-Tag:noindex
X-PUBLISHED-TTL:PT1H
BEGIN:VTIMEZONE
TZID:Europe/Berlin
BEGIN:DAYLIGHT
TZOFFSETFROM:+0100
TZOFFSETTO:+0200
TZNAME:CEST
DTSTART:20250330T010000
END:DAYLIGHT
BEGIN:STANDARD
TZOFFSETFROM:+0200
TZOFFSETTO:+0100
TZNAME:CET
DTSTART:20251026T010000
END:STANDARD
BEGIN:DAYLIGHT
TZOFFSETFROM:+0100
TZOFFSETTO:+0200
TZNAME:CEST
DTSTART:20260329T010000
END:DAYLIGHT
BEGIN:STANDARD
TZOFFSETFROM:+0200
TZOFFSETTO:+0100
TZNAME:CET
DTSTART:20261025T010000
END:STANDARD
BEGIN:DAYLIGHT
TZOFFSETFROM:+0100
TZOFFSETTO:+0200
TZNAME:CEST
DTSTART:20270328T010000
END:DAYLIGHT
BEGIN:STANDARD
TZOFFSETFROM:+0200
TZOFFSETTO:+0100
TZNAME:CET
DTSTART:20271031T010000
END:STANDARD
END:VTIMEZONE
BEGIN:VEVENT
DTSTART;TZID=Europe/Berlin:20260423T190000
DTEND;TZID=Europe/Berlin:20260423T213000
DTSTAMP:20260423T124321
CREATED:20260114T204314Z
LAST-MODIFIED:20260331T165117Z
UID:10000078-1776970800-1776979800@kohero-magazin.com
SUMMARY:WHO CARED? Generationengespräch über Care-Migration und Erinnerungskultur
DESCRIPTION:Eine ehemalige Krankenpflegerin aus dem südindischen Kerala erzählt vom Ankommen\, Arbeiten und Bleiben in Deutschland. Gemeinsam mit ihrem Sohn\, berichtet sie von ihrer Reise\, die nie endete\, und davon wie es war\, ihre Lebensgeschichte für das Online-Archiv WHO CARED festzuhalten. \n\nWelche Grenzen zieht Migration zwischen den Erfahrungswelten zweier Generationen?\nWelche Sehnsüchte prägen sie?\nWie schauen die ehemaligen Krankenschwestern* auf Pflege\, Migration und ihre eigene Geschichte?\n\n  \nUnd welche Rolle spielt dabei eine Gesellschaft\, die wenig davon weiß und vieles wiederholt. \nDazu gibt es Getränke und die passende Musik. Moderiert wird das Gespräch von der freien Journalistin und ehemaligen kohero-Chefredakteurin Sarah Zaheer. \n  \nOrganisiert wird das Gespräch in Kooperation zwischen dem Online-Archiv WHO CARED\, dem kohero Magazin und dem Museum der Arbeit. \n  \nDas Online-Archiv WHO CARED hält die Lebensgeschichten der Menschen fest\, die vor vielen Jahren in ein anderes Land zogen\, um in der Pflege zu arbeiten. Der aktuelle Fokus liegt auf Krankenschwestern\, die aus dem südindischen Kerala nach Deutschland kamen. Das Besondere: Interviewt werden sie von ihren Kindern\, Enkeln\, Nichten oder Neffen. Zwei Videoportraits sind Teil der Ausstellung “CARE! Wenn aus Liebe Arbeit wird”. \nDas kohero Magazin ist eine Plattform für inklusive Berichterstattung\, die Perspektiven von Menschen mit Migrations- und Fluchterfahrung sichtbar macht. Durch verantwortungsbewussten Journalismus möchte das Magazin Dialog und gesellschaftlichen Zusammenhalt ermöglichen. \nDas Museum der Arbeit stellt in der aktuellen Sonderausstellung „CARE! Wenn aus Liebe Arbeit wird“ Fürsorge und die Strukturen unter denen sie stattfindet in den Mittelpunkt. Dabei geht es auch um die vielseitigen Zusammenhänge von Care und Migration und um die Geschichte(n) von Care-Migration in Deutschland. \n  \n*Der Begriff Krankenschwester wird hier verwendet\, da es dem historischen Kontext und der Selbstbezeichnung der teilnehmenden Personen entspricht. \n  \nDie Teilnahme kostenlos und ohne Anmeldung\, kommt gerne spontan vorbei!
URL:https://kohero-magazin.com/event/who-cared/
LOCATION:Museum der Arbeit\, Wiesendamm 3\, Hamburg\, 22305
CATEGORIES:Panel
ATTACH;FMTTYPE=image/png:https://kohero-magazin.com/wp-content/uploads/2026/01/Event-Designsf-1.png
END:VEVENT
END:VCALENDAR